BEGIN:VCALENDAR
VERSION:2.0
PRODID:-//https://rdv.traumatec-hopitec.com///NONSGML kigkonsult.se iCalcreator 2.10.15//
METHOD:PUBLISH
BEGIN:VEVENT
UID:20260419T160101CEST-8606mVFMxV@https://rdv.traumatec-hopitec.com/
DTSTAMP:20260419T140101Z
DESCRIPTION:{loadmoduleid 185}\n{loadmoduleid 159} https://rdv.traumatec-ho
 pitec.com/english-speaking-africa/event/392-aoa-seminar-basics-of-fracture
 -management-for-operating-room-personnel
DTSTART;VALUE=DATE:20260220
LOCATION:Sunyani\, Ghana (Sunyani\, Ghana)
SUMMARY:AOA Seminar—Basics of Fracture Management for Operating Room Person
 nel
URL:https://rdv.traumatec-hopitec.com/english-speaking-africa/event/392-aoa
 -seminar-basics-of-fracture-management-for-operating-room-personnel
END:VEVENT
END:VCALENDAR
