BEGIN:VCALENDAR
VERSION:2.0
PRODID:-//https://rdv.traumatec-hopitec.com///NONSGML kigkonsult.se iCalcreator 2.10.15//
METHOD:PUBLISH
BEGIN:VEVENT
UID:20260419T154740CEST-3449DRorvD@https://rdv.traumatec-hopitec.com/
DTSTAMP:20260419T134740Z
DESCRIPTION:{loadmoduleid 170}\n{loadmoduleid 159} https://rdv.traumatec-ho
 pitec.com/english-speaking-africa/event/415-aoa-course-nonoperative-fractu
 re-management
DTSTART:20260515T120224Z
DTEND:20260517T140224Z
LOCATION:Juba\, South Sudan (Juba\, South Sudan)
SUMMARY:AOA Course—Nonoperative Fracture Management
URL:https://rdv.traumatec-hopitec.com/english-speaking-africa/event/415-aoa
 -course-nonoperative-fracture-management
END:VEVENT
END:VCALENDAR
