BEGIN:VCALENDAR
VERSION:2.0
PRODID:-//https://rdv.traumatec-hopitec.com///NONSGML kigkonsult.se iCalcreator 2.10.15//
METHOD:PUBLISH
BEGIN:VEVENT
UID:20260419T155035CEST-54077zvdWV@https://rdv.traumatec-hopitec.com/
DTSTAMP:20260419T135035Z
DESCRIPTION:{loadmoduleid 166}\n{loadmoduleid 159} https://rdv.traumatec-ho
 pitec.com/french-speaking-africa/event/481-cours-principes-du-traitement-n
 on-operatoire-des-fractures-de-membres-les-plus-courantes
DTSTART:20260506T103858Z
DTEND:20260508T123858Z
LOCATION:Maferinya\, Guinée ()
SUMMARY:Cours_Principes du Traitement Non-Opératoire des Fractures de Membr
 es les plus Courantes
URL:https://rdv.traumatec-hopitec.com/french-speaking-africa/event/481-cour
 s-principes-du-traitement-non-operatoire-des-fractures-de-membres-les-plus
 -courantes
END:VEVENT
END:VCALENDAR
