BEGIN:VCALENDAR
VERSION:2.0
PRODID:-//https://rdv.traumatec-hopitec.com///NONSGML kigkonsult.se iCalcreator 2.10.15//
METHOD:PUBLISH
BEGIN:VEVENT
UID:20260419T185830CEST-4055OvmU0N@https://rdv.traumatec-hopitec.com/
DTSTAMP:20260419T165830Z
DESCRIPTION:{loadmoduleid 203}\n{loadmoduleid 159} https://rdv.traumatec-ho
 pitec.com/past-events/event/268-aoa-ao-peer-course-principles-of-clinical-
 research-level-1
DTSTART:20251121T131027Z
DTEND:20251122T151027Z
LOCATION:Entebbe\, Uganda (Entebbe\, Uganda)
SUMMARY:AOA/ AO PEER Course—Principles of Clinical Research (Level 1)
URL:https://rdv.traumatec-hopitec.com/past-events/event/268-aoa-ao-peer-cou
 rse-principles-of-clinical-research-level-1
END:VEVENT
END:VCALENDAR
