BEGIN:VCALENDAR
VERSION:2.0
PRODID:-//https://rdv.traumatec-hopitec.com///NONSGML kigkonsult.se iCalcreator 2.10.15//
METHOD:PUBLISH
BEGIN:VEVENT
UID:20260419T154628CEST-7036jguWbs@https://rdv.traumatec-hopitec.com/
DTSTAMP:20260419T134628Z
DESCRIPTION:{loadmoduleid 170}\n{loadmoduleid 159} https://rdv.traumatec-ho
 pitec.com/past-events/event/426-aoa-course-nonoperative-fracture-managemen
 t
DTSTART:20260326T131027Z
DTEND:20260328T151027Z
LOCATION:Kampala\, Uganda (Kampala\, Uganda)
SUMMARY:AOA Course—Nonoperative Fracture Management
URL:https://rdv.traumatec-hopitec.com/past-events/event/426-aoa-course-nono
 perative-fracture-management
END:VEVENT
END:VCALENDAR
